BEGIN:VCALENDAR
VERSION:2.0
PRODID:-//ChamberMaster//Event Calendar 2.0//EN
METHOD:PUBLISH
X-PUBLISHED-TTL:P3D
REFRESH-INTERVAL:P3D
CALSCALE:GREGORIAN
BEGIN:VEVENT
DTSTART:20241101T220000Z
DTEND:20241102T050000Z
X-MICROSOFT-CDO-ALLDAYEVENT:FALSE
SUMMARY:Forge After Dark
DESCRIPTION:Join us for a live auction whose proceeds support the Folk School. Bid on handcrafted ironwork and other fine craft items donated by instructors\, students\, and staff. Your contributions help us uphold the legacy of the Folk School and its cherished programs.\n\nWe will have a preview from 12 to 2 p.m.\, with the auction running from 2 to 4 p.m. in the Keith House Community Room.
X-ALT-DESC;FMTTYPE=text/html:<p style="background-image: initial\; background-position: 0px 0px\; background-size: initial\; background-repeat: initial\; background-attachment: initial\; background-origin: initial\; background-clip: initial\; border: 0px\; margin: 0px 0px 20px\; padding: 0px\; vertical-align: baseline\; outline: 0px\; color: rgb(55\, 59\, 67)\; font-family: karmina-sans\; font-size: 20px\; line-height: normal\;"><span style="font-size:14px\;"><span style="font-family:arial\;">Join us for a live auction whose proceeds support the Folk School. Bid on handcrafted ironwork and other fine craft items donated by instructors\, students\, and staff. Your contributions help us uphold the legacy of the Folk School and its cherished programs.</span></span></p>\n\n<p style="background-image: initial\; background-position: 0px 0px\; background-size: initial\; background-repeat: initial\; background-attachment: initial\; background-origin: initial\; background-clip: initial\; border: 0px\; margin: 0px 0px 20px\; padding: 0px\; vertical-align: baseline\; outline: 0px\; color: rgb(55\, 59\, 67)\; font-family: karmina-sans\; font-size: 20px\; line-height: normal\;"><span style="font-size:14px\;"><span style="font-family:arial\;">We will have a preview from 12 to 2 p.m.\, with the auction running from 2 to 4 p.m. in the Keith House Community Room.</span></span></p>\n\n<p style="background-image: initial\; background-position: 0px 0px\; background-size: initial\; background-repeat: initial\; background-attachment: initial\; background-origin: initial\; background-clip: initial\; border: 0px\; margin: 0px\; padding: 0px\; vertical-align: baseline\; outline: 0px\; color: rgb(55\, 59\, 67)\; font-family: karmina-sans\; font-size: 20px\; line-height: normal\;">&nbsp\;</p>\n
LOCATION:John C. Campbell Folkschool Clay Spencer Blacksmith Shop One Folk School Road Brasstown\, NC 28902
UID:e.1652.44935
SEQUENCE:3
DTSTAMP:20260424T040147Z
URL:http://golakechatuge.chambermaster.com/events/details/forge-after-dark-44935
END:VEVENT

END:VCALENDAR
