BEGIN:VCALENDAR
VERSION:2.0
PRODID:-//ChamberMaster//Event Calendar 2.0//EN
METHOD:PUBLISH
X-PUBLISHED-TTL:P3D
REFRESH-INTERVAL:P3D
CALSCALE:GREGORIAN
BEGIN:VEVENT
DTSTART:20240330T170000Z
DTEND:20240330T190000Z
X-MICROSOFT-CDO-ALLDAYEVENT:FALSE
SUMMARY:Easter Egg Hunt
DESCRIPTION:An annual springtime favorite for kids\, this year's Easter Egg Hunt is Saturday\, March 30th at 1 p.m. Join us in Festival Barn for a fun afternoon of crafts\, entertainment\, and egg hunting. \n\nSchedule: \n\n1:00: Craft Making \n\n1:30: Music\, Games & the Easter Bunny \n\n2:00: Egg Hunt for ages 1 to 5 \n\n2:20: Egg Hunt for ages 6 and up \n\nWe will use wooden eggs dyed by Folk School staff and decorated by our friends in the community. Children will hunt for these wooden eggs and exchange them for candy\, giving everyone a chance to take home an array of treats. In the spirit of sustainability\, we'll use these handcrafted eggs for many hunts to come.
X-ALT-DESC;FMTTYPE=text/html:<p class="middlep" style="line-height: 1.4em\; margin: 1em 0px\; color: rgb(0\, 0\, 0)\; font-family: &quot\;Open Sans&quot\;\, Helvetica\, Arial\, sans-serif\; font-size: 14.6667px\;">An annual springtime favorite for kids\, this year&#39\;s Easter Egg Hunt is Saturday\, March 30th at 1 p.m. Join us in Festival Barn for a fun afternoon of crafts\, entertainment\, and egg hunting.&nbsp\;</p>\n\n<p class="middlep" style="line-height: 1.4em\; margin: 1em 0px\; color: rgb(0\, 0\, 0)\; font-family: &quot\;Open Sans&quot\;\, Helvetica\, Arial\, sans-serif\; font-size: 14.6667px\;">Schedule:&nbsp\;<br style="line-height: 1.4em\;" />\n1:00: Craft Making&nbsp\;<br style="line-height: 1.4em\;" />\n1:30: Music\, Games &amp\; the Easter Bunny&nbsp\;<br style="line-height: 1.4em\;" />\n2:00: Egg Hunt for ages 1 to 5&nbsp\;<br style="line-height: 1.4em\;" />\n2:20: Egg Hunt for ages 6 and up&nbsp\;</p>\n\n<p class="middlep" style="line-height: 1.4em\; margin: 1em 0px\; color: rgb(0\, 0\, 0)\; font-family: &quot\;Open Sans&quot\;\, Helvetica\, Arial\, sans-serif\; font-size: 14.6667px\;">We will use wooden eggs dyed by Folk School staff and decorated by our friends in the community. Children will hunt for these wooden eggs and exchange them for candy\, giving everyone a chance to take home an array of treats. In the spirit of sustainability\, we&#39\;ll use these handcrafted eggs for many hunts to come.</p>\n
LOCATION:John C. Campbell Folk School - Festival Barn 1 Folk School Road Brasstown\, NC 28902
UID:e.1652.44929
SEQUENCE:3
DTSTAMP:20260421T231856Z
URL:http://golakechatuge.chambermaster.com/events/details/easter-egg-hunt-44929
END:VEVENT

END:VCALENDAR
