BEGIN:VCALENDAR
VERSION:2.0
PRODID:-//ChamberMaster//Event Calendar 2.0//EN
METHOD:PUBLISH
X-PUBLISHED-TTL:P3D
REFRESH-INTERVAL:P3D
CALSCALE:GREGORIAN
BEGIN:VEVENT
DTSTART;VALUE=DATE:20240323
DTEND;VALUE=DATE:20240324
TRANSP:TRANSPARENT
X-MICROSOFT-CDO-ALLDAYEVENT:TRUE
SUMMARY:Annual Easter Egg Hunt
DESCRIPTION:Annual Easter Egg Hunt Sponsored by Sharp Memorial Methodist Church at Mayor's Park in Young Harris\, Georgia
X-ALT-DESC;FMTTYPE=text/html:Annual Easter Egg Hunt Sponsored by Sharp Memorial Methodist Church at Mayor&#39\;s Park in Young Harris\, Georgia&nbsp\;
LOCATION:Mayor's Park in Young Harris
UID:e.1652.45864
SEQUENCE:3
DTSTAMP:20260422T033516Z
URL:http://golakechatuge.chambermaster.com/events/details/annual-easter-egg-hunt-45864
END:VEVENT

END:VCALENDAR
